BEGIN:VCALENDAR
VERSION:2.0
PRODID:-//thectbeacon.com - ECPv6.15.20//NONSGML v1.0//EN
CALSCALE:GREGORIAN
METHOD:PUBLISH
X-WR-CALNAME:thectbeacon.com
X-ORIGINAL-URL:https://thectbeacon.com
X-WR-CALDESC:Events for thectbeacon.com
REFRESH-INTERVAL;VALUE=DURATION:PT1H
X-Robots-Tag:noindex
X-PUBLISHED-TTL:PT1H
BEGIN:VTIMEZONE
TZID:America/New_York
BEGIN:DAYLIGHT
TZOFFSETFROM:-0500
TZOFFSETTO:-0400
TZNAME:EDT
DTSTART:20250309T070000
END:DAYLIGHT
BEGIN:STANDARD
TZOFFSETFROM:-0400
TZOFFSETTO:-0500
TZNAME:EST
DTSTART:20251102T060000
END:STANDARD
BEGIN:DAYLIGHT
TZOFFSETFROM:-0500
TZOFFSETTO:-0400
TZNAME:EDT
DTSTART:20260308T070000
END:DAYLIGHT
BEGIN:STANDARD
TZOFFSETFROM:-0400
TZOFFSETTO:-0500
TZNAME:EST
DTSTART:20261101T060000
END:STANDARD
BEGIN:DAYLIGHT
TZOFFSETFROM:-0500
TZOFFSETTO:-0400
TZNAME:EDT
DTSTART:20270314T070000
END:DAYLIGHT
BEGIN:STANDARD
TZOFFSETFROM:-0400
TZOFFSETTO:-0500
TZNAME:EST
DTSTART:20271107T060000
END:STANDARD
END:VTIMEZONE
BEGIN:VEVENT
DTSTART;TZID=America/New_York:20260423T200000
DTEND;TZID=America/New_York:20260423T233000
DTSTAMP:20260420T235113
CREATED:20260421T023251Z
LAST-MODIFIED:20260421T023251Z
UID:37-1776974400-1776987000@thectbeacon.com
SUMMARY:Joe Gatto
DESCRIPTION:
URL:https://thectbeacon.com/event/joe-gatto-2/
LOCATION:Mohegan Sun\, 1 Mohegan Sun Blvs\, Uncasville\, 06382\, United States
CATEGORIES:Mohegan Sun
END:VEVENT
BEGIN:VEVENT
DTSTART;TZID=America/New_York:20260424T190000
DTEND;TZID=America/New_York:20260424T210000
DTSTAMP:20260420T235113
CREATED:20260421T020825Z
LAST-MODIFIED:20260421T021755Z
UID:26-1777057200-1777064400@thectbeacon.com
SUMMARY:HASAN HATES RONNY | RONNY HATES HASAN
DESCRIPTION:
URL:https://thectbeacon.com/event/hasan-hates-ronny-ronny-hates-hasan/
LOCATION:Veterans Memorial Auditorium\, 1 Avenue of the Arts\, Providence\, RI\, 02903\, United States
CATEGORIES:Veterans Memorial Auditorium
END:VEVENT
BEGIN:VEVENT
DTSTART;TZID=America/New_York:20260424T193000
DTEND;TZID=America/New_York:20260424T210000
DTSTAMP:20260420T235113
CREATED:20260421T015013Z
LAST-MODIFIED:20260421T021726Z
UID:20-1777059000-1777064400@thectbeacon.com
SUMMARY:Jim Breuer: Find The Funny
DESCRIPTION:
URL:https://thectbeacon.com/event/jim-breuer-find-the-funny/
LOCATION:Great Cedar Showroom at Foxwoods Resort Casino\, 39 Norwich Westerly Road\, Mashantucket\, CT\, 06338\, United States
CATEGORIES:Foxwoods
END:VEVENT
BEGIN:VEVENT
DTSTART;TZID=America/New_York:20260424T193000
DTEND;TZID=America/New_York:20260424T210000
DTSTAMP:20260420T235113
CREATED:20260421T021511Z
LAST-MODIFIED:20260421T021543Z
UID:29-1777059000-1777064400@thectbeacon.com
SUMMARY:Mamma Mania - The American Tribute to ABBA
DESCRIPTION:
URL:https://thectbeacon.com/event/mamma-mania-the-american-tribute-to-abba/
LOCATION:United Theater\, 5 Canal Street\, Westerly\, RI\, 02891\, United States
CATEGORIES:United Theater
END:VEVENT
BEGIN:VEVENT
DTSTART;TZID=America/New_York:20260424T200000
DTEND;TZID=America/New_York:20260424T220000
DTSTAMP:20260420T235113
CREATED:20260421T022424Z
LAST-MODIFIED:20260421T022424Z
UID:32-1777060800-1777068000@thectbeacon.com
SUMMARY:Ashley Kutcher
DESCRIPTION:
URL:https://thectbeacon.com/event/ashley-kutcher/
LOCATION:Wolf Den\, 1 Mohegan Sun Blvs\, Uncasville\, CT\, 06382\, United States
CATEGORIES:Wolf Den
END:VEVENT
BEGIN:VEVENT
DTSTART;TZID=America/New_York:20260424T200000
DTEND;TZID=America/New_York:20260424T220000
DTSTAMP:20260420T235113
CREATED:20260421T031544Z
LAST-MODIFIED:20260421T031544Z
UID:60-1777060800-1777068000@thectbeacon.com
SUMMARY:Judy Collins - Iconic Folk Singer/Songwriter
DESCRIPTION:
URL:https://thectbeacon.com/event/judy-collins-iconic-folk-singer-songwriter/
LOCATION:The Kate\, 100 Main Street\, Old Saybrook\, CT\, 06475\, United States
CATEGORIES:The Kate
END:VEVENT
BEGIN:VEVENT
DTSTART;TZID=America/New_York:20260424T200000
DTEND;TZID=America/New_York:20260424T233000
DTSTAMP:20260420T235113
CREATED:20260421T022924Z
LAST-MODIFIED:20260421T023015Z
UID:35-1777060800-1777073400@thectbeacon.com
SUMMARY:Joe Gatto
DESCRIPTION:
URL:https://thectbeacon.com/event/joe-gatto/
LOCATION:Mohegan Sun\, 1 Mohegan Sun Blvs\, Uncasville\, 06382\, United States
CATEGORIES:Mohegan Sun
END:VEVENT
BEGIN:VEVENT
DTSTART;TZID=America/New_York:20260424T200000
DTEND;TZID=America/New_York:20260424T233000
DTSTAMP:20260420T235113
CREATED:20260421T031304Z
LAST-MODIFIED:20260421T031304Z
UID:57-1777060800-1777073400@thectbeacon.com
SUMMARY:Big Lux
DESCRIPTION:
URL:https://thectbeacon.com/event/big-lux/
LOCATION:Garde Arts Center\, 325 State Street\, New London\, CT\, 06320\, United States
CATEGORIES:Garde Arts Center
END:VEVENT
BEGIN:VEVENT
DTSTART;TZID=America/New_York:20260424T210000
DTEND;TZID=America/New_York:20260424T230000
DTSTAMP:20260420T235113
CREATED:20260421T024031Z
LAST-MODIFIED:20260421T024031Z
UID:41-1777064400-1777071600@thectbeacon.com
SUMMARY:Be Kind & Rewind - Ultimate 90s Experience
DESCRIPTION:
URL:https://thectbeacon.com/event/be-kind-rewind-ultimate-90s-experience/
LOCATION:Ocean Mist\, 895 Matunuck Beach Road\, South Kingston\, RI\, 02879\, United States
CATEGORIES:Ocean Mist
END:VEVENT
BEGIN:VEVENT
DTSTART;TZID=America/New_York:20260425T113000
DTEND;TZID=America/New_York:20260425T170000
DTSTAMP:20260420T235113
CREATED:20260421T033732Z
LAST-MODIFIED:20260421T033732Z
UID:66-1777116600-1777136400@thectbeacon.com
SUMMARY:The 26th Annual Pawcatuck River Duck Race
DESCRIPTION:The Pawcatuck River Duck Race returns to Westerly this Saturday\, April 25\, with 20\,000 rubber ducks racing down the river as part of a full day of food\, music\, and family-friendly activities. Festivities begin at 11:30 a.m. at Donahue Park\, with the Corporate Race at 1 p.m. and the main race at 1:30 p.m. Entry is free\, and duck certificates ($5) are available through the Ocean Community Chamber and at the event.
URL:https://thectbeacon.com/event/the-26th-annual-pawcatuck-river-duck-race/
LOCATION:Donahue Park\, 14 Mechanic Street\, Pawcatuck\, CT\, 06379\, United States
CATEGORIES:Donahue Park
END:VEVENT
BEGIN:VEVENT
DTSTART;TZID=America/New_York:20260425T180000
DTEND;TZID=America/New_York:20260425T233000
DTSTAMP:20260420T235113
CREATED:20260421T023546Z
LAST-MODIFIED:20260421T023546Z
UID:39-1777140000-1777159800@thectbeacon.com
SUMMARY:Joe Gatto
DESCRIPTION:
URL:https://thectbeacon.com/event/joe-gatto-3/
LOCATION:Mohegan Sun\, 1 Mohegan Sun Blvs\, Uncasville\, 06382\, United States
CATEGORIES:Mohegan Sun
END:VEVENT
BEGIN:VEVENT
DTSTART;TZID=America/New_York:20260425T190000
DTEND;TZID=America/New_York:20260425T210000
DTSTAMP:20260420T235113
CREATED:20260421T031844Z
LAST-MODIFIED:20260421T031844Z
UID:62-1777143600-1777150800@thectbeacon.com
SUMMARY:United We Laugh
DESCRIPTION:
URL:https://thectbeacon.com/event/united-we-laugh/
LOCATION:United Theater\, 5 Canal Street\, Westerly\, RI\, 02891\, United States
CATEGORIES:United Theater
END:VEVENT
BEGIN:VEVENT
DTSTART;TZID=America/New_York:20260425T200000
DTEND;TZID=America/New_York:20260425T233000
DTSTAMP:20260420T235113
CREATED:20260421T024600Z
LAST-MODIFIED:20260421T024600Z
UID:44-1777147200-1777159800@thectbeacon.com
SUMMARY:Wild Nights at Wolf Den
DESCRIPTION:
URL:https://thectbeacon.com/event/wild-nights-at-wolf-den/
LOCATION:Wolf Den\, 1 Mohegan Sun Blvs\, Uncasville\, CT\, 06382\, United States
END:VEVENT
BEGIN:VEVENT
DTSTART;TZID=America/New_York:20260425T200000
DTEND;TZID=America/New_York:20260425T233000
DTSTAMP:20260420T235113
CREATED:20260421T025051Z
LAST-MODIFIED:20260421T025051Z
UID:46-1777147200-1777159800@thectbeacon.com
SUMMARY:Jake Kulak
DESCRIPTION:
URL:https://thectbeacon.com/event/jake-kulak/
LOCATION:Milestone\, 12 Water Street\, Mystic\, CT\, 06355\, United States
CATEGORIES:Milestone
END:VEVENT
BEGIN:VEVENT
DTSTART;TZID=America/New_York:20260425T210000
DTEND;TZID=America/New_York:20260425T233000
DTSTAMP:20260420T235114
CREATED:20260421T025517Z
LAST-MODIFIED:20260421T025517Z
UID:49-1777150800-1777159800@thectbeacon.com
SUMMARY:Save Ferris w/ Special Guests Adrian & Meredith + Tj & The Campers
DESCRIPTION:
URL:https://thectbeacon.com/event/save-ferris-w-special-guests-adrian-meredith-tj-the-campers/
LOCATION:Ocean Mist\, 895 Matunuck Beach Road\, South Kingston\, RI\, 02879\, United States
CATEGORIES:Ocean Mist
END:VEVENT
BEGIN:VEVENT
DTSTART;TZID=America/New_York:20260426T190000
DTEND;TZID=America/New_York:20260426T210000
DTSTAMP:20260420T235114
CREATED:20260421T030248Z
LAST-MODIFIED:20260421T030248Z
UID:51-1777230000-1777237200@thectbeacon.com
SUMMARY:Squirrel Nut Zippers: Jazz From The Back O'town A Musical Journey to the Birthplace of Jazz in 1920s
DESCRIPTION:
URL:https://thectbeacon.com/event/squirrel-nut-zippers-jazz-from-the-back-otown-a-musical-journey-to-the-birthplace-of-jazz-in-1920s/
LOCATION:The Kate\, 100 Main Street\, Old Saybrook\, CT\, 06475\, United States
END:VEVENT
BEGIN:VEVENT
DTSTART;TZID=America/New_York:20260426T190000
DTEND;TZID=America/New_York:20260426T210000
DTSTAMP:20260420T235114
CREATED:20260421T030604Z
LAST-MODIFIED:20260421T030604Z
UID:55-1777230000-1777237200@thectbeacon.com
SUMMARY:John Legend - An Evening of Songs & Stories
DESCRIPTION:
URL:https://thectbeacon.com/event/john-legend-an-evening-of-songs-stories/
LOCATION:Veterans Memorial Auditorium\, 1 Avenue of the Arts\, Providence\, RI\, 02903\, United States
CATEGORIES:Veterans Memorial Auditorium
END:VEVENT
BEGIN:VEVENT
DTSTART;TZID=America/New_York:20260508T200000
DTEND;TZID=America/New_York:20260508T220000
DTSTAMP:20260420T235114
CREATED:20260421T015859Z
LAST-MODIFIED:20260421T021701Z
UID:23-1778270400-1778277600@thectbeacon.com
SUMMARY:Electric Light Orchestra Experience
DESCRIPTION:
URL:https://thectbeacon.com/event/electric-light-orchestra-experience/
LOCATION:Mohegan Sun\, 1 Mohegan Sun Blvs\, Uncasville\, 06382\, United States
CATEGORIES:Mohegan Sun
END:VEVENT
END:VCALENDAR